BEGIN:VCALENDAR
VERSION:2.0
PRODID:-//ChamberMaster//Event Calendar 2.0//EN
METHOD:PUBLISH
X-PUBLISHED-TTL:P3D
REFRESH-INTERVAL:P3D
CALSCALE:GREGORIAN
BEGIN:VEVENT
DTSTART:20221019T124500Z
DTEND:20221019T220000Z
X-MICROSOFT-CDO-ALLDAYEVENT:FALSE
SUMMARY:Active Shooter Incident Management Training
DESCRIPTION:ASIM Advanced is a 3-day comprehensive course using the national\n\nstandard Active Shooter Incident Management Checklist integrated\n\nresponse process. Eleven full-scale exercises utilize the multi-responder\n\nNIMSProTM 3D virtual reality simulator that places everyone in the middle\n\nof the action.\n\n \n\nParticipants are trained to integrate and manage a multi-discipline response\n\nto a full range of Active Shooter and hostile event threats\, including Complex\n\nCoordinated Attack (CCA). Contact Jacki Larson to sign up. \n\n \n\nThe course is appropriate for all ranks of law enforcement\, fire\, EMS\, and\n\ndispatch. The course provides hands-on incident management experience\n\nfor street responders and leaders alike.\n\nInstructors utilize a no-fault\, no-embarrassment coaching style to conduct\n\nlive training with up to 60 students. Exercises include attacks at a train\n\nstation\, school\, airport\, mall\, courthouse\, and cruise terminal. Scenarios\n\ninclude active shooter events\, suspect at large\, reunification\, Complex\n\nCoordinated Attack (CCA)\, IEDs\, and hostage barricade.
X-ALT-DESC;FMTTYPE=text/html:<p id="isPasted" style="box-sizing: content-box\; margin: 0px 0px 6px\; padding: 0px\; border: 0px\; outline: 0px\; font-size: 15.2px\; font-family: &quot\;Source Sans Pro&quot\;\; vertical-align: baseline\;"><span style="font-size:12px\;">ASIM Advanced is a 3-day comprehensive course using the national</span></p>\n\n<p style="box-sizing: content-box\; margin: 0px 0px 6px\; padding: 0px\; border: 0px\; outline: 0px\; font-size: 15.2px\; font-family: &quot\;Source Sans Pro&quot\;\; vertical-align: baseline\;"><span style="font-size:12px\;">standard Active Shooter Incident Management Checklist integrated</span></p>\n\n<p style="box-sizing: content-box\; margin: 0px 0px 6px\; padding: 0px\; border: 0px\; outline: 0px\; font-size: 15.2px\; font-family: &quot\;Source Sans Pro&quot\;\; vertical-align: baseline\;"><span style="font-size:12px\;">response process. Eleven full-scale exercises utilize the multi-responder</span></p>\n\n<p style="box-sizing: content-box\; margin: 0px 0px 6px\; padding: 0px\; border: 0px\; outline: 0px\; font-size: 15.2px\; font-family: &quot\;Source Sans Pro&quot\;\; vertical-align: baseline\;"><span style="font-size:12px\;">NIMSProTM 3D virtual reality simulator that places everyone in the middle</span></p>\n\n<p style="box-sizing: content-box\; margin: 0px 0px 6px\; padding: 0px\; border: 0px\; outline: 0px\; font-size: 15.2px\; font-family: &quot\;Source Sans Pro&quot\;\; vertical-align: baseline\;"><span style="font-size:12px\;">of the action.</span></p>\n\n<p style="box-sizing: content-box\; margin: 0px 0px 6px\; padding: 0px\; border: 0px\; outline: 0px\; font-size: 15.2px\; font-family: &quot\;Source Sans Pro&quot\;\; vertical-align: baseline\;">&nbsp\;</p>\n\n<p style="box-sizing: content-box\; margin: 0px 0px 6px\; padding: 0px\; border: 0px\; outline: 0px\; font-size: 15.2px\; font-family: &quot\;Source Sans Pro&quot\;\; vertical-align: baseline\;"><span style="font-size:12px\;">Participants are trained to integrate and manage a multi-discipline response</span></p>\n\n<p style="box-sizing: content-box\; margin: 0px 0px 6px\; padding: 0px\; border: 0px\; outline: 0px\; font-size: 15.2px\; font-family: &quot\;Source Sans Pro&quot\;\; vertical-align: baseline\;"><span style="font-size:12px\;">to a full range of Active Shooter and hostile event threats\, including Complex</span></p>\n\n<p style="box-sizing: content-box\; margin: 0px 0px 6px\; padding: 0px\; border: 0px\; outline: 0px\; font-size: 15.2px\; font-family: &quot\;Source Sans Pro&quot\;\; vertical-align: baseline\;"><span style="font-size:12px\;">Coordinated Attack (CCA). Contact Jacki Larson to sign up.&nbsp\;</span></p>\n\n<p style="box-sizing: content-box\; margin: 0px 0px 6px\; padding: 0px\; border: 0px\; outline: 0px\; font-size: 15.2px\; font-family: &quot\;Source Sans Pro&quot\;\; vertical-align: baseline\;">&nbsp\;</p>\n\n<p style="box-sizing: content-box\; margin: 0px 0px 6px\; padding: 0px\; border: 0px\; outline: 0px\; font-size: 15.2px\; font-family: &quot\;Source Sans Pro&quot\;\; vertical-align: baseline\;"><span style="font-size:12px\;">The course is appropriate for all ranks of law enforcement\, fire\, EMS\, and</span></p>\n\n<p style="box-sizing: content-box\; margin: 0px 0px 6px\; padding: 0px\; border: 0px\; outline: 0px\; font-size: 15.2px\; font-family: &quot\;Source Sans Pro&quot\;\; vertical-align: baseline\;"><span style="font-size:12px\;">dispatch. The course provides hands-on incident management experience</span></p>\n\n<p style="box-sizing: content-box\; margin: 0px 0px 6px\; padding: 0px\; border: 0px\; outline: 0px\; font-size: 15.2px\; font-family: &quot\;Source Sans Pro&quot\;\; vertical-align: baseline\;"><span style="font-size:12px\;">for street responders and leaders alike.</span></p>\n\n<p style="box-sizing: content-box\; margin: 0px 0px 6px\; padding: 0px\; border: 0px\; outline: 0px\; font-size: 15.2px\; font-family: &quot\;Source Sans Pro&quot\;\; vertical-align: baseline\;"><span style="font-size:12px\;">Instructors utilize a no-fault\, no-embarrassment coaching style to conduct</span></p>\n\n<p style="box-sizing: content-box\; margin: 0px 0px 6px\; padding: 0px\; border: 0px\; outline: 0px\; font-size: 15.2px\; font-family: &quot\;Source Sans Pro&quot\;\; vertical-align: baseline\;"><span style="font-size:12px\;">live training with up to 60 students. Exercises include attacks at a train</span></p>\n\n<p style="box-sizing: content-box\; margin: 0px 0px 6px\; padding: 0px\; border: 0px\; outline: 0px\; font-size: 15.2px\; font-family: &quot\;Source Sans Pro&quot\;\; vertical-align: baseline\;"><span style="font-size:12px\;">station\, school\, airport\, mall\, courthouse\, and cruise terminal. Scenarios</span></p>\n\n<p style="box-sizing: content-box\; margin: 0px 0px 6px\; padding: 0px\; border: 0px\; outline: 0px\; font-size: 15.2px\; font-family: &quot\;Source Sans Pro&quot\;\; vertical-align: baseline\;"><span style="font-size:12px\;">include active shooter events\, suspect at large\, reunification\, Complex</span></p>\n\n<p style="box-sizing: content-box\; margin: 0px 0px 6px\; padding: 0px\; border: 0px\; outline: 0px\; font-size: 15.2px\; font-family: &quot\;Source Sans Pro&quot\;\; vertical-align: baseline\;"><span style="font-size:12px\;">Coordinated Attack (CCA)\, IEDs\, and hostage barricade.</span></p>\n
LOCATION:Davison County Fairgrounds\, Activity Hall 3200 West Havens Mitchell\, SD 57301
UID:e.1624.32864
SEQUENCE:3
DTSTAMP:20260421T170404Z
URL:https://business.mitchellchamber.com/events/details/active-shooter-incident-management-training-10-19-2022-32864
END:VEVENT

END:VCALENDAR
