BEGIN:VCALENDAR
VERSION:2.0
PRODID:-//ChamberMaster//Event Calendar 2.0//EN
METHOD:PUBLISH
X-PUBLISHED-TTL:P3D
REFRESH-INTERVAL:P3D
CALSCALE:GREGORIAN
BEGIN:VEVENT
DTSTART:20240310T190000Z
DTEND:20240310T210000Z
X-MICROSOFT-CDO-ALLDAYEVENT:FALSE
SUMMARY:ACT Unnecessary Farce
DESCRIPTION:Two cops. Three crooks. Eight doors. In a cheap coastal motel room\, two undercover cops wait to catch an embezzling mayor meeting with his female accountant in the room next door. But there's some confusion as to who's in which room\, who's being recorded\, who's taken the money\, who's hired a hit man\, and why the accountant keeps taking off her clothes?!? 2024 Performance Dates: March 1\, 2\, 3 & 8\, 9\, 10 Fri/Sat at 7:30pm \; Sunday at 2 pm Rated PG 13 Adult Situations & Language
X-ALT-DESC;FMTTYPE=text/html:Two cops. Three crooks. Eight doors. In a cheap coastal motel room\, two undercover cops wait to catch an embezzling mayor meeting with his female accountant in the room next door. But there&#39\;s some confusion as to who&#39\;s in which room\, who&#39\;s being recorded\, who&#39\;s taken the money\, who&#39\;s hired a hit man\, and why the accountant keeps taking off her clothes?!? 2024 Performance Dates: March 1\, 2\, 3 &amp\; 8\, 9\, 10 Fri/Sat at 7:30pm \; Sunday at 2 pm Rated PG 13 Adult Situations &amp\; Language
LOCATION:Area Community Theatre 700 N Main Street Mitchell\, SD 57301
UID:e.1624.35876
SEQUENCE:3
DTSTAMP:20260420T105106Z
URL:https://business.mitchellchamber.com/events/details/act-unnecessary-farce-03-10-2024-35876
END:VEVENT

END:VCALENDAR
