BEGIN:VCALENDAR
VERSION:2.0
PRODID:-//ChamberMaster//Event Calendar 2.0//EN
METHOD:PUBLISH
X-PUBLISHED-TTL:P3D
REFRESH-INTERVAL:P3D
CALSCALE:GREGORIAN
BEGIN:VEVENT
DTSTART:20180624T003000Z
DTEND:20180624T020000Z
X-MICROSOFT-CDO-ALLDAYEVENT:FALSE
SUMMARY:ACT Summer Children's Theatre Performances
DESCRIPTION:An inspirational story that explores how kindness and forgiveness can be shown to anyone\, even those who have done terrible things.\n\nTickets can be purchased at the box office for $8.00---all seats for these productions are general admission.
X-ALT-DESC;FMTTYPE=text/html:An inspirational story that explores how kindness and forgiveness can be shown to anyone\, even those who have done terrible things.<br />\nTickets can be purchased at the box office for $8.00---all seats for these productions are general admission.
LOCATION:Area Community Theatre in Mitchell 700 N Main St\, Mitchell\, South Dakota 57301
UID:e.1624.15964
SEQUENCE:3
DTSTAMP:20260425T144446Z
URL:https://business.mitchellchamber.com/events/details/act-summer-children-s-theatre-performances-06-23-2018-15964
END:VEVENT

END:VCALENDAR
