BEGIN:VCALENDAR
VERSION:2.0
PRODID:-//ChamberMaster//Event Calendar 2.0//EN
METHOD:PUBLISH
X-PUBLISHED-TTL:P3D
REFRESH-INTERVAL:P3D
CALSCALE:GREGORIAN
BEGIN:VEVENT
DTSTART:20240314T223000Z
DTEND:20240314T233000Z
X-MICROSOFT-CDO-ALLDAYEVENT:FALSE
SUMMARY:Abbott House Foster Parent Informational Event
DESCRIPTION:Abbott House does foster care differently-- and you can be a part of it! Not only do our foster parents receive training and support\, but Abbott House also provides a home\, cars\, and anything else that is needed to raise children in need. Stop by our educational event at Embrace Church to learn more about the roles foster parents play in the lives of our children. You could be the change they need!
X-ALT-DESC;FMTTYPE=text/html:Abbott House does foster care differently-- and you can be a part of it! Not only do our foster parents receive training and support\, but Abbott House also provides a home\, cars\, and anything else that is needed to raise children in need. Stop by our educational event at Embrace Church to learn more about the roles foster parents play in the lives of our children. You could be the change they need!
LOCATION:Embrace Church 57th Campus 2800 E 57th St Sioux Falls\, SD 57108
UID:e.1624.36163
SEQUENCE:3
DTSTAMP:20260420T111602Z
URL:https://business.mitchellchamber.com/events/details/abbott-house-foster-parent-informational-event-03-14-2024-36163
END:VEVENT

END:VCALENDAR
