BEGIN:VCALENDAR
VERSION:2.0
PRODID:-//ChamberMaster//Event Calendar 2.0//EN
METHOD:PUBLISH
X-PUBLISHED-TTL:P3D
REFRESH-INTERVAL:P3D
CALSCALE:GREGORIAN
BEGIN:VEVENT
DTSTART:20180327T170000Z
DTEND:20180327T180000Z
X-MICROSOFT-CDO-ALLDAYEVENT:FALSE
SUMMARY:Abbott House Education and Appreciation Celebration
DESCRIPTION:Join us for a free lunch and learn as we thank our donors and volunteers for the life changing support they help provide for abused and neglected South Dakota children! This event is open to the public as a wonderful opportunity to learn exactly what the Abbott House provides for so many children in need each year.\n\n\n\nLunch is free but we ask that you RSVP to Erica by phone or email by March 25th for planning purposes:\n\n605-996-2486 ext 117\n\nericas@abbotthousesd.com
X-ALT-DESC;FMTTYPE=text/html:<span class="_4n-j _3cht fsl" data-testid="event-permalink-details">Join us for a free lunch and learn as we thank our donors and volunteers for the life changing support they help provide for abused and neglected South Dakota children! This event is open to the public as a wonderful opportunity to learn exactly what the Abbott House provides for so many children in need each year.<br />\n<br />\nLunch is free but we ask that you RSVP to Erica by phone or email by March 25th for planning purposes:<br />\n605-996-2486 ext 117<br />\nericas@abbotthousesd.com</span>
LOCATION:Mitchell Wesleyan Church 601 N Sanborn Blvd\, Mitchell\, South Dakota 57301
UID:e.1624.14277
SEQUENCE:3
DTSTAMP:20260422T041828Z
URL:https://business.mitchellchamber.com/events/details/abbott-house-education-and-appreciation-celebration-14277
END:VEVENT

END:VCALENDAR
