BEGIN:VCALENDAR
VERSION:2.0
PRODID:-//ChamberMaster//Event Calendar 2.0//EN
METHOD:PUBLISH
X-PUBLISHED-TTL:P3D
REFRESH-INTERVAL:P3D
CALSCALE:GREGORIAN
BEGIN:VEVENT
DTSTART:20220312T163000Z
DTEND:20220312T210000Z
X-MICROSOFT-CDO-ALLDAYEVENT:FALSE
SUMMARY:AAU/USA Wrestling Tournament
DESCRIPTION:2022 SDWCA Region 3 Tournament:\n\n\n\nSaturday\, March 12th\, The World's Only Corn Palace will host the Region III AAU/USA Wrestling Tournament.  Doors open for ticketing at 8 am\, with wrestling to begin at 10:30 am.  The meet will be finishing around 2:30 with awards presented as each of the Divisional weight classes finish wrestling.  The top 3-wrestlers in each division/weight will qualify to compete in the State Meet\, March 25-27 in Sioux Falls at the Denny Sanford Premier Center.\n\n\n\nhttps://www.cornpalace.com/DocumentCenter/View/494/2022-REGIONS-WRESTLING-FINAL?bidId=
X-ALT-DESC;FMTTYPE=text/html:2022 SDWCA Region 3 Tournament:<br />\n<br />\nSaturday\, March 12th\, The World&#39\;s Only Corn Palace will host the Region III AAU/USA Wrestling Tournament.&nbsp\; Doors open for ticketing at 8 am\, with wrestling to begin at 10:30 am.&nbsp\; The meet will be finishing around 2:30 with awards presented as each of the Divisional weight classes finish wrestling.&nbsp\; The top 3-wrestlers in each division/weight will qualify to compete in the State Meet\, March 25-27 in Sioux Falls at the Denny Sanford Premier Center.<br />\n<br />\n<a href="https://www.cornpalace.com/DocumentCenter/View/494/2022-REGIONS-WRESTLING-FINAL?bidId=">https://www.cornpalace.com/DocumentCenter/View/494/2022-REGIONS-WRESTLING-FINAL?bidId=</a>
LOCATION:The World's Only Corn Palace Mitchell\, South Dakota
UID:e.1624.32182
SEQUENCE:3
DTSTAMP:20260422T002054Z
URL:https://business.mitchellchamber.com/events/details/aau-usa-wrestling-tournament-32182
END:VEVENT

END:VCALENDAR
