BEGIN:VCALENDAR
VERSION:2.0
PRODID:-//ChamberMaster//Event Calendar 2.0//EN
METHOD:PUBLISH
X-PUBLISHED-TTL:P3D
REFRESH-INTERVAL:P3D
CALSCALE:GREGORIAN
BEGIN:VEVENT
DTSTART:20180323T233000Z
DTEND:20180324T040000Z
X-MICROSOFT-CDO-ALLDAYEVENT:FALSE
SUMMARY:A Night at the Races
DESCRIPTION:The Night at the Races is an action packed evening of video horse racing (with betting)\, silent auction\, raffles\, drink specials\, heavy appetizers and other fun games. All proceeds benefit the Mitchell Area Safehouse
X-ALT-DESC;FMTTYPE=text/html:The Night at the Races is an action packed evening of video horse racing (with betting)\, silent auction\, raffles\, drink specials\, heavy appetizers and other fun games. All proceeds benefit the Mitchell Area Safehouse
LOCATION:Highland Conference Center
UID:e.1624.8810
SEQUENCE:3
DTSTAMP:20260425T173251Z
URL:https://business.mitchellchamber.com/events/details/a-night-at-the-races-8810
END:VEVENT

END:VCALENDAR
