BEGIN:VCALENDAR
VERSION:2.0
PRODID:-//ChamberMaster//Event Calendar 2.0//EN
METHOD:PUBLISH
X-PUBLISHED-TTL:P3D
REFRESH-INTERVAL:P3D
CALSCALE:GREGORIAN
BEGIN:VEVENT
DTSTART:20221013T000000Z
DTEND:20221013T010000Z
X-MICROSOFT-CDO-ALLDAYEVENT:FALSE
SUMMARY:A Mother’s Story: Suicide Prevention
DESCRIPTION:Downtown FUMC Family Ministry invites the community to join us for A Mother's Story: Suicide Prevention. Alex' mom\, Stefanie (James) Kummer\, will be sharing her son's story of how he tragically died from suicide and her hope to bring awareness. Presentation is in the Worship Center/Sanctuary. The public is invited.
X-ALT-DESC;FMTTYPE=text/html:<span style="color: rgb(5\, 5\, 5)\; font-family: &quot\;Segoe UI Historic&quot\;\, &quot\;Segoe UI&quot\;\, Helvetica\, Arial\, sans-serif\; font-size: 15px\; white-space: pre-wrap\;">Downtown FUMC Family Ministry invites the community to join us for A Mother&rsquo\;s Story: Suicide Prevention. Alex&rsquo\; mom\, Stefanie (James) Kummer\, will be sharing her son&rsquo\;s story of how he tragically died from suicide and her hope to bring awareness. Presentation is in the Worship Center/Sanctuary. The public is invited.</span>
LOCATION:Downtown Mitchell First United Methodist Church 310 N Rowley St\, Mitchell\, SD 57301 Worship Center
UID:e.1624.32872
SEQUENCE:3
DTSTAMP:20260421T170445Z
URL:https://business.mitchellchamber.com/events/details/a-mother-s-story-suicide-prevention-32872
END:VEVENT

END:VCALENDAR
