BEGIN:VCALENDAR
VERSION:2.0
PRODID:-//ChamberMaster//Event Calendar 2.0//EN
METHOD:PUBLISH
X-PUBLISHED-TTL:P3D
REFRESH-INTERVAL:P3D
CALSCALE:GREGORIAN
BEGIN:VEVENT
DTSTART:20171022T210000Z
DTEND:20171022T223000Z
X-MICROSOFT-CDO-ALLDAYEVENT:FALSE
SUMMARY:"A Little Night Music" band concert
DESCRIPTION:The Ron and Sheilah Gates Department of Music will present its instrumental fall concert\, "A Little Night Music\," at 4 p.m.\, Sunday\, Oct. 22\, in the DWU Sherman Center. This concert features the Wesleyan Band\, LyricWood Orchestra and LyricWood Cadets and is free and open to the public.
X-ALT-DESC;FMTTYPE=text/html:<span style="color:rgb(52\, 52\, 52)\; font-family:tahoma\,geneva\,sans-serif\; font-size:16px">The Ron and Sheilah Gates Department of Music will present its instrumental fall concert\, &ldquo\;A Little Night Music\,&rdquo\; at 4 p.m.\, Sunday\, Oct. 22\, in the DWU Sherman Center. This concert features the Wesleyan Band\, LyricWood Orchestra and LyricWood Cadets and is free and open to the public.</span>
LOCATION:DWU Sherman Center
UID:e.1624.9133
SEQUENCE:3
DTSTAMP:20260426T014204Z
URL:https://business.mitchellchamber.com/events/details/a-little-night-music-band-concert-9133
END:VEVENT

END:VCALENDAR
