BEGIN:VCALENDAR
VERSION:2.0
PRODID:-//ChamberMaster//Event Calendar 2.0//EN
METHOD:PUBLISH
X-PUBLISHED-TTL:P3D
REFRESH-INTERVAL:P3D
CALSCALE:GREGORIAN
BEGIN:VEVENT
DTSTART:20221014T000000Z
DTEND:20221014T020000Z
X-MICROSOFT-CDO-ALLDAYEVENT:FALSE
SUMMARY:A Debate on Gun Control
DESCRIPTION:A Braver Angels collegiate debate\n\nResolved: Greater restrictions on guns\, such as a ban on assault-style weapons\, would save lives and not impinge on 2nd amendment freedoms. Agree or disagree? Why?
X-ALT-DESC;FMTTYPE=text/html:A Braver Angels collegiate debate<br />\nResolved: Greater restrictions on guns\, such as a ban on assault-style weapons\, would save lives and not impinge on 2nd amendment freedoms. Agree or disagree? Why?&nbsp\;
LOCATION:Dakota Wesleyan University 1200 W. University Ave\, Mitchell\, SD 57301 New Business Building SBIL Board Room-Room 117
UID:e.1624.32871
SEQUENCE:3
DTSTAMP:20260421T170110Z
URL:https://business.mitchellchamber.com/events/details/a-debate-on-gun-control-32871
END:VEVENT

END:VCALENDAR
