BEGIN:VCALENDAR
VERSION:2.0
PRODID:-//ChamberMaster//Event Calendar 2.0//EN
METHOD:PUBLISH
X-PUBLISHED-TTL:P3D
REFRESH-INTERVAL:P3D
CALSCALE:GREGORIAN
BEGIN:VEVENT
DTSTART;VALUE=DATE:20220430
DTEND;VALUE=DATE:20220501
TRANSP:TRANSPARENT
X-MICROSOFT-CDO-ALLDAYEVENT:TRUE
SUMMARY:A Cribbage Tourney
DESCRIPTION:$100 1st Prize\n\nDrink Tokens for Players\n\nAll Ages Welcome
X-ALT-DESC;FMTTYPE=text/html:$100 1st Prize<br />\nDrink Tokens for Players<br />\nAll Ages Welcome
LOCATION:The Back 40 511 N. Main St. Mitchell\, South Dakota
UID:e.1624.32461
SEQUENCE:3
DTSTAMP:20260422T030916Z
URL:https://business.mitchellchamber.com/events/details/a-cribbage-tourney-32461
END:VEVENT

END:VCALENDAR
