BEGIN:VCALENDAR
VERSION:2.0
PRODID:-//ChamberMaster//Event Calendar 2.0//EN
METHOD:PUBLISH
X-PUBLISHED-TTL:P3D
REFRESH-INTERVAL:P3D
CALSCALE:GREGORIAN
BEGIN:VEVENT
DTSTART:20171007T180000Z
DTEND:20171007T230000Z
X-MICROSOFT-CDO-ALLDAYEVENT:FALSE
SUMMARY:8th Annual Lakeview Lawn Bowling Tournament
DESCRIPTION:8th Annual Lawn Bowling Tournament. Sat the 7th is the SINGLES tournament - open to everybody.
X-ALT-DESC;FMTTYPE=text/html:8th Annual Lawn Bowling Tournament. Sat the 7th is the SINGLES tournament - open to everybody.
LOCATION:3300 N Ohlman\, by Lakeview Golf Course clubhouse
UID:e.1624.9076
SEQUENCE:3
DTSTAMP:20260426T014101Z
URL:https://business.mitchellchamber.com/events/details/8th-annual-lakeview-lawn-bowling-tournament-9076
END:VEVENT

END:VCALENDAR
