BEGIN:VCALENDAR
VERSION:2.0
PRODID:-//ChamberMaster//Event Calendar 2.0//EN
METHOD:PUBLISH
X-PUBLISHED-TTL:P3D
REFRESH-INTERVAL:P3D
CALSCALE:GREGORIAN
BEGIN:VEVENT
DTSTART:20220617T210000Z
DTEND:20220618T020000Z
X-MICROSOFT-CDO-ALLDAYEVENT:FALSE
SUMMARY:8th Annual Hot Rods on Havens
DESCRIPTION:Hosted by: Iverson Auto\n\n\n\nOpen to all classic cars\, trucks\, hot rods\, and motorcycles.\n\n\n\n4:00 - 7:00 PM Show and Shine\n\n7:00 - 7:30 PM  Awards\n\n7:30 - 9:00 PM Cruise Havens Poker Run
X-ALT-DESC;FMTTYPE=text/html:Hosted by: Iverson Auto<br />\n<br />\nOpen to all classic cars\, trucks\, hot rods\, and motorcycles.<br />\n<br />\n4:00 - 7:00 PM Show and Shine<br />\n7:00 - 7:30 PM&nbsp\; Awards<br />\n7:30 - 9:00 PM Cruise Havens Poker Run<br />\n&nbsp\;
LOCATION:Iverson Auto Top Lot (On corner of Burr St. & Iverson Ave.) Mitchell\, South Dakota
UID:e.1624.32570
SEQUENCE:3
DTSTAMP:20260421T234847Z
URL:https://business.mitchellchamber.com/events/details/8th-annual-hot-rods-on-havens-32570
END:VEVENT

END:VCALENDAR
