BEGIN:VCALENDAR
VERSION:2.0
PRODID:-//ChamberMaster//Event Calendar 2.0//EN
METHOD:PUBLISH
X-PUBLISHED-TTL:P3D
REFRESH-INTERVAL:P3D
CALSCALE:GREGORIAN
BEGIN:VEVENT
DTSTART:20221015T030000Z
DTEND:20221015T050000Z
X-MICROSOFT-CDO-ALLDAYEVENT:FALSE
SUMMARY:5th Quarter
DESCRIPTION:Join us for 5th Quarter after the Mitchell High School football game! There will be a Madden tournament\, prizes\, all you can eat pizza & snacks\, a Nerf war\, and more! Bring yourself\, a friend\, an appetite\, and a smile. Ages 12-18.
X-ALT-DESC;FMTTYPE=text/html:Join us for 5th Quarter after the Mitchell High School football game! There will be a Madden tournament\, prizes\, all you can eat pizza &amp\; snacks\, a Nerf war\, and more! Bring yourself\, a friend\, an appetite\, and a smile. Ages 12-18.
LOCATION:Mitchell Assembly of God 220 W 19th Ave
UID:e.1624.32860
SEQUENCE:3
DTSTAMP:20260421T165947Z
URL:https://business.mitchellchamber.com/events/details/5th-quarter-32860
END:VEVENT

END:VCALENDAR
