BEGIN:VCALENDAR
VERSION:2.0
PRODID:-//ChamberMaster//Event Calendar 2.0//EN
METHOD:PUBLISH
X-PUBLISHED-TTL:P3D
REFRESH-INTERVAL:P3D
CALSCALE:GREGORIAN
BEGIN:VEVENT
DTSTART:20221002T120000Z
DTEND:20221002T170000Z
X-MICROSOFT-CDO-ALLDAYEVENT:FALSE
SUMMARY:5th Annual Palace City Kiwanis Half-Marathon\, 5K\,10K
DESCRIPTION:The 5th Annual Palace City Kiwanis Half-Marathon & Relay takes place on Sunday\, October 2\, 2022. The Corn Palace will open at 6:00 a.m. for check-in\, race begins at 7:30 a.m.
X-ALT-DESC;FMTTYPE=text/html:The 5th Annual Palace City Kiwanis Half-Marathon &amp\; Relay takes place on Sunday\, October 2\, 2022. The Corn Palace will open at 6:00 a.m. for check-in\, race begins at 7:30 a.m.&nbsp\;<br />\n<br />\n&nbsp\;
LOCATION:604 N Main St Mitchell\, SD 57301
UID:e.1624.32857
SEQUENCE:3
DTSTAMP:20260421T170609Z
URL:https://business.mitchellchamber.com/events/details/5th-annual-palace-city-kiwanis-half-marathon-5k-10k-32857
END:VEVENT

END:VCALENDAR
