BEGIN:VCALENDAR
VERSION:2.0
PRODID:-//ChamberMaster//Event Calendar 2.0//EN
METHOD:PUBLISH
X-PUBLISHED-TTL:P3D
REFRESH-INTERVAL:P3D
CALSCALE:GREGORIAN
BEGIN:VEVENT
DTSTART:20240721T010000Z
DTEND:20240721T040000Z
X-MICROSOFT-CDO-ALLDAYEVENT:FALSE
SUMMARY:53rd Annual Corn Palace Stampede Rodeo
DESCRIPTION:The 53rd Annual Corn Palace Stampede Rodeo \n\n"Cowboys In Paradise"
X-ALT-DESC;FMTTYPE=text/html:The 53rd Annual Corn Palace Stampede Rodeo&nbsp\;<br />\n&quot\;Cowboys In Paradise&quot\;
LOCATION:New Rodeo Grounds 6320 N. Ohlman Mitchell\, SD 57301
UID:e.1624.36639
SEQUENCE:3
DTSTAMP:20260420T083515Z
URL:https://business.mitchellchamber.com/events/details/53rd-annual-corn-palace-stampede-rodeo-36639
END:VEVENT

END:VCALENDAR
