BEGIN:VCALENDAR
VERSION:2.0
PRODID:-//ChamberMaster//Event Calendar 2.0//EN
METHOD:PUBLISH
X-PUBLISHED-TTL:P3D
REFRESH-INTERVAL:P3D
CALSCALE:GREGORIAN
BEGIN:VEVENT
DTSTART:20150618T230000Z
DTEND:20150619T010000Z
X-MICROSOFT-CDO-ALLDAYEVENT:FALSE
SUMMARY:5 Course Dinner & Wine Tasting
DESCRIPTION:Explore 5 different Argentinian wines paired with 5 amazing courses! Join us at 6pm. Cost per person is $70. Call 996-2000 to reserve your spot.
X-ALT-DESC;FMTTYPE=text/html:Explore 5 different Argentinian wines paired with 5 amazing courses! Join us at 6pm. Cost per person is $70. Call 996-2000 to reserve your spot.
LOCATION:Yessica's\, 505 N. Main St.
UID:e.1624.1673
SEQUENCE:3
DTSTAMP:20260421T110229Z
URL:https://business.mitchellchamber.com/events/details/5-course-dinner-wine-tasting-06-18-2015-1673
END:VEVENT

END:VCALENDAR
