BEGIN:VCALENDAR
VERSION:2.0
PRODID:-//ChamberMaster//Event Calendar 2.0//EN
METHOD:PUBLISH
X-PUBLISHED-TTL:P3D
REFRESH-INTERVAL:P3D
CALSCALE:GREGORIAN
BEGIN:VEVENT
DTSTART;VALUE=DATE:20240419
DTEND;VALUE=DATE:20240422
TRANSP:TRANSPARENT
X-MICROSOFT-CDO-ALLDAYEVENT:TRUE
SUMMARY:2024 Tempo Harve's Sport Shop Soccer Classic Tournament
DESCRIPTION:Download the iSports 3 app or go to the website with all of our tournament info to see the brackets\, schedules/results\, venues and to sign up for notifications.
X-ALT-DESC;FMTTYPE=text/html:Download the iSports 3 app or go to the website with all of our tournament info to see the brackets\, schedules/results\, venues and to sign up for notifications.
LOCATION:Pepsi Soccer Complex 5825 Tower Rd. Mitchell\, SD 57301
UID:e.1624.36175
SEQUENCE:3
DTSTAMP:20260420T082709Z
URL:https://business.mitchellchamber.com/events/details/2024-tempo-harve-s-sport-shop-soccer-classic-tournament-36175
END:VEVENT

END:VCALENDAR
