BEGIN:VCALENDAR
VERSION:2.0
PRODID:-//ChamberMaster//Event Calendar 2.0//EN
METHOD:PUBLISH
X-PUBLISHED-TTL:P3D
REFRESH-INTERVAL:P3D
CALSCALE:GREGORIAN
BEGIN:VEVENT
DTSTART:20240501T213000Z
DTEND:20240501T233000Z
X-MICROSOFT-CDO-ALLDAYEVENT:FALSE
SUMMARY:2024 Shrine Circus
DESCRIPTION:The Circus is coming back to town! 5 shows on April 29th through May 1st. \n\nCome see all your favorite acts and enjoy the entertainment.
X-ALT-DESC;FMTTYPE=text/html:<div background-color:="" color:="" font-size:="" segoe="" ui="">The Circus is coming back to town! 5 shows on April 29th&nbsp\;through May 1st.&nbsp\;</div>\n\n<div background-color:="" color:="" font-size:="" segoe="" ui="">Come see all your favorite acts and enjoy the entertainment.</div>\n\n<div background-color:="" color:="" font-size:="" segoe="" ui="">&nbsp\;</div>\n
LOCATION:The Worlds Only Corn Palace 604 N Main Street Mitchell\, SD 57301
UID:e.1624.36210
SEQUENCE:3
DTSTAMP:20260420T063608Z
URL:https://business.mitchellchamber.com/events/details/2024-shrine-circus-36210
END:VEVENT

END:VCALENDAR
