BEGIN:VCALENDAR
VERSION:2.0
PRODID:-//ChamberMaster//Event Calendar 2.0//EN
METHOD:PUBLISH
X-PUBLISHED-TTL:P3D
REFRESH-INTERVAL:P3D
CALSCALE:GREGORIAN
BEGIN:VEVENT
DTSTART:20240208T153000Z
DTEND:20240208T211500Z
X-MICROSOFT-CDO-ALLDAYEVENT:FALSE
SUMMARY:2024 Mitchell Soil Health Event
DESCRIPTION:The South Dakota No-Till Association is holding its 2024 Mitchell Soil Health Event on Thursday\, February 8\, 2024 at the Highland Convention Center\, located at 2000 Highland Way.\n\n\n\nPreregistration: Requested by 5 p.m. CT February 5\, 2024.\n\n\n\nCall: 605-996-1564 x 3\n\nText: 605-530-5390\n\nEmail: heidi.rients@usda.gov\n\n\n\nVisit SDNoTill.com for more information!
X-ALT-DESC;FMTTYPE=text/html:The South Dakota No-Till Association is holding its 2024 Mitchell Soil Health Event on Thursday\, February 8\, 2024 at the Highland Convention Center\, located at 2000 Highland Way.<br />\n<br />\nPreregistration: Requested by 5 p.m. CT February 5\, 2024.<br />\n<br />\nCall: 605-996-1564 x 3<br />\nText: 605-530-5390<br />\nEmail: heidi.rients@usda.gov<br />\n<br />\nVisit SDNoTill.com for more information!
LOCATION:Highland Conference Center 2000 Highland Way Mitchell\, SD 57301
UID:e.1624.35417
SEQUENCE:3
DTSTAMP:20260420T161025Z
URL:https://business.mitchellchamber.com/events/details/2024-mitchell-soil-health-event-35417
END:VEVENT

END:VCALENDAR
