BEGIN:VCALENDAR
VERSION:2.0
PRODID:-//ChamberMaster//Event Calendar 2.0//EN
METHOD:PUBLISH
X-PUBLISHED-TTL:P3D
REFRESH-INTERVAL:P3D
CALSCALE:GREGORIAN
BEGIN:VEVENT
DTSTART:20240704T003000Z
DTEND:20240704T013000Z
X-MICROSOFT-CDO-ALLDAYEVENT:FALSE
SUMMARY:2024 Mitchell Municipal Band Concert
DESCRIPTION:Director: Joel Van Peursem\n\nTheme: Patriotic
X-ALT-DESC;FMTTYPE=text/html:Director: Joel Van Peursem<br />\nTheme: Patriotic&nbsp\;
LOCATION:Hitchcock Park Band Shell 1201 E. Hanson Ave Mitchell\, SD 57301
UID:e.1624.36373
SEQUENCE:3
DTSTAMP:20260420T084043Z
URL:https://business.mitchellchamber.com/events/details/2024-mitchell-municipal-band-concert-36373
END:VEVENT

END:VCALENDAR
