BEGIN:VCALENDAR
VERSION:2.0
PRODID:-//ChamberMaster//Event Calendar 2.0//EN
METHOD:PUBLISH
X-PUBLISHED-TTL:P3D
REFRESH-INTERVAL:P3D
CALSCALE:GREGORIAN
BEGIN:VEVENT
DTSTART:20240216T230000Z
DTEND:20240217T030000Z
X-MICROSOFT-CDO-ALLDAYEVENT:FALSE
SUMMARY:2024 Indoor 3D Shoot
DESCRIPTION:40 Rinehart Targets\n\nAdults - $25 (re-entry $10)\n\nYouth (14 under) - $5.00 (re-entry free)
X-ALT-DESC;FMTTYPE=text/html:40 Rinehart Targets<br />\nAdults - $25 (re-entry $10)<br />\nYouth (14 under) - $5.00 (re-entry free)
LOCATION:Davison County 4-H Building 3200 W Havens Ave Mitchell\, SD 57301
UID:e.1624.35886
SEQUENCE:3
DTSTAMP:20260420T160744Z
URL:https://business.mitchellchamber.com/events/details/2024-indoor-3d-shoot-35886
END:VEVENT

END:VCALENDAR
