BEGIN:VCALENDAR
VERSION:2.0
PRODID:-//ChamberMaster//Event Calendar 2.0//EN
METHOD:PUBLISH
X-PUBLISHED-TTL:P3D
REFRESH-INTERVAL:P3D
CALSCALE:GREGORIAN
BEGIN:VEVENT
DTSTART:20231103T000000Z
DTEND:20231103T013000Z
X-MICROSOFT-CDO-ALLDAYEVENT:FALSE
SUMMARY:2023 Indoor Marching Band Show
DESCRIPTION:Come join the marching band in our season finale of "Nightmare at 30\,000 Feet". Come see the marching band perform along with its seniors\, Drumline\, Color Guard and more! Tickets can be purchased at the door that evening.
X-ALT-DESC;FMTTYPE=text/html:Come join the marching band in our season finale of &quot\;Nightmare at 30\,000 Feet&quot\;. Come see the marching band perform along with its seniors\, Drumline\, Color Guard and more! Tickets can be purchased at the door that evening.&nbsp\;
LOCATION:Performing Arts Center 821 N Capital Street Mitchell\, SD 57301
UID:e.1624.35062
SEQUENCE:3
DTSTAMP:20260420T142020Z
URL:https://business.mitchellchamber.com/events/details/2023-indoor-marching-band-show-35062
END:VEVENT

END:VCALENDAR
