BEGIN:VCALENDAR
VERSION:2.0
PRODID:-//ChamberMaster//Event Calendar 2.0//EN
METHOD:PUBLISH
X-PUBLISHED-TTL:P3D
REFRESH-INTERVAL:P3D
CALSCALE:GREGORIAN
BEGIN:VEVENT
DTSTART:20220916T230000Z
DTEND:20220918T030000Z
X-MICROSOFT-CDO-ALLDAYEVENT:FALSE
SUMMARY:2022 Raise Em Rank Series Finals
DESCRIPTION:The Raise Em Rank Year End Final Bull riding followed at the historic Mitchell Corn Palace! Two Action Packed nights of Bull riding action where we crown our year end youth and professional division champions. Live music both nights\, Vendor Fair\, fun for the whole family
X-ALT-DESC;FMTTYPE=text/html:<span style="color: rgb(5\, 5\, 5)\; font-family: &quot\;Segoe UI Historic&quot\;\, &quot\;Segoe UI&quot\;\, Helvetica\, Arial\, sans-serif\; font-size: 15px\;">The Raise Em Rank Year End Final Bull riding followed at the historic Mitchell Corn Palace! Two Action Packed nights of Bull riding action where we crown our year end youth and professional division champions. Live music both nights\, Vendor Fair\, fun for the whole family</span>
LOCATION:The World's Only Corn Palace
UID:e.1624.32683
SEQUENCE:3
DTSTAMP:20260421T184222Z
URL:https://business.mitchellchamber.com/events/details/2022-raise-em-rank-series-finals-32683
END:VEVENT

END:VCALENDAR
