BEGIN:VCALENDAR
VERSION:2.0
PRODID:-//ChamberMaster//Event Calendar 2.0//EN
METHOD:PUBLISH
X-PUBLISHED-TTL:P3D
REFRESH-INTERVAL:P3D
CALSCALE:GREGORIAN
BEGIN:VEVENT
DTSTART:20220430T140000Z
DTEND:20220430T210000Z
X-MICROSOFT-CDO-ALLDAYEVENT:FALSE
SUMMARY:2022 HuntSAFE Online Class Field Day
DESCRIPTION:After completing the online component the student will receive their field day qualifier voucher. The student will take this voucher to the independent study field day they signed up for.\n\nNeed to complete the online course and bring Verification Voucher saying they completed online.\n\nSouth Dakota Online Hunter Safety Course | Hunter-ed.com
X-ALT-DESC;FMTTYPE=text/html:After completing the online component the student will receive their field day qualifier voucher. The student will take this voucher to the independent study field day they signed up for.<br />\n<strong>Need to complete the online course and bring Verification Voucher saying they completed online.</strong><br />\n<a href="https://www.hunter-ed.com/southdakota/">South Dakota Online Hunter Safety Course | Hunter-ed.com&trade\;</a>
LOCATION:Mitchell Trap Club Range/ Field Day Address: 3400 W. Havens St. City: Mitchell
UID:e.1624.32142
SEQUENCE:3
DTSTAMP:20260422T032759Z
URL:https://business.mitchellchamber.com/events/details/2022-huntsafe-online-class-field-day-04-30-2022-32142
END:VEVENT

END:VCALENDAR
