BEGIN:VCALENDAR
VERSION:2.0
PRODID:-//ChamberMaster//Event Calendar 2.0//EN
METHOD:PUBLISH
X-PUBLISHED-TTL:P3D
REFRESH-INTERVAL:P3D
CALSCALE:GREGORIAN
BEGIN:VEVENT
DTSTART:20220428T230000Z
DTEND:20220429T020000Z
X-MICROSOFT-CDO-ALLDAYEVENT:FALSE
SUMMARY:2022 HuntSAFE Class
DESCRIPTION:THURSDAY 6:00 pm - 9:00 pm @ Davison County Fair Grounds Complex FRIDAY 6:00 pm - 9:00 pm @ Davison County Fair Grounds Complex SATURDAY 9:00 am - 4:00 pm @ Mitchell Trap Club (Student must attend all three days)\n\nYou must pre-register to attend at Hunter Safety | South Dakota Game\, Fish\, and Parks (sd.gov)
X-ALT-DESC;FMTTYPE=text/html:THURSDAY 6:00 pm - 9:00 pm @ Davison County Fair Grounds Complex FRIDAY 6:00 pm - 9:00 pm @ Davison County Fair Grounds Complex SATURDAY 9:00 am - 4:00 pm @ Mitchell Trap Club (Student must attend all three days)<br />\nYou must pre-register to attend at&nbsp\;<a href="https://gfpga.sd.gov/outdoor-learning/hunter-education/ClassList.aspx">Hunter Safety | South Dakota Game\, Fish\, and Parks (sd.gov)</a>
LOCATION:Davison County Fair Grounds Complex Class Address: 3200 W. Havens St. City: Mitchell
UID:e.1624.32131
SEQUENCE:3
DTSTAMP:20260422T032220Z
URL:https://business.mitchellchamber.com/events/details/2022-huntsafe-class-32131
END:VEVENT

END:VCALENDAR
