BEGIN:VCALENDAR
VERSION:2.0
PRODID:-//ChamberMaster//Event Calendar 2.0//EN
METHOD:PUBLISH
X-PUBLISHED-TTL:P3D
REFRESH-INTERVAL:P3D
CALSCALE:GREGORIAN
BEGIN:VEVENT
DTSTART:20220819T230000Z
DTEND:20220820T020000Z
X-MICROSOFT-CDO-ALLDAYEVENT:FALSE
SUMMARY:2022 HuntSAFE Class
DESCRIPTION:THURSDAY 6:00 pm - 9:00 pm @ Davison County Fair Grounds Complex\n\nFRIDAY 6:00 pm - 9:00 pm @ Davison County Fair Grounds Complex\n\nSATURDAY 9:00 am - 4:00 pm @ Mitchell Trap Club\n\n(Student must attend all three days)\n\nMust register in advance at:    Hunter Safety | South Dakota Game\, Fish\, and Parks (sd.gov)
X-ALT-DESC;FMTTYPE=text/html:THURSDAY 6:00 pm - 9:00 pm @ Davison County Fair Grounds Complex<br />\nFRIDAY 6:00 pm - 9:00 pm @ Davison County Fair Grounds Complex<br />\nSATURDAY 9:00 am - 4:00 pm @ Mitchell Trap Club<br />\n(Student must attend all three days)<br />\n<span style="color: rgb(51\, 51\, 51)\; font-family: sans-serif\, Arial\, Verdana\, &quot\;Trebuchet MS&quot\;\; font-size: 13px\; background-color: rgb(255\, 255\, 255)\;">Must register in advance at:&nbsp\; &nbsp\;&nbsp\;</span><a href="https://gfpga.sd.gov/outdoor-learning/hunter-education/ClassList.aspx" style="color: rgb(7\, 130\, 193)\; font-family: sans-serif\, Arial\, Verdana\, &quot\;Trebuchet MS&quot\;\; font-size: 13px\;">Hunter Safety | South Dakota Game\, Fish\, and Parks (sd.gov)</a>
LOCATION:Davison County Fair Grounds Complex Class Address: 3200 W. Havens St. City: Mitchell
UID:e.1624.32134
SEQUENCE:3
DTSTAMP:20260421T201917Z
URL:https://business.mitchellchamber.com/events/details/2022-huntsafe-class-08-19-2022-32134
END:VEVENT

END:VCALENDAR
