BEGIN:VCALENDAR
VERSION:2.0
PRODID:-//ChamberMaster//Event Calendar 2.0//EN
METHOD:PUBLISH
X-PUBLISHED-TTL:P3D
REFRESH-INTERVAL:P3D
CALSCALE:GREGORIAN
BEGIN:VEVENT
DTSTART;VALUE=DATE:20190720
DTEND;VALUE=DATE:20190722
TRANSP:TRANSPARENT
X-MICROSOFT-CDO-ALLDAYEVENT:TRUE
SUMMARY:2019 SD State 3-D Archery Shoot
DESCRIPTION:SOUTH DAKOTA ARCHERS ASSOCIATION WAS FOUNDED IN 1954 TO UNITE ARCHERY ASSOCIATIONS INTO ONE ORGANIZED UNIT THAT WOULD WORK TOGETHER TO PROVIDE FOR THE DEVELOPMENT OF THE SPORT OF ARCHERY . \n\nSDAA WAS FORMED TO FOSTER\, EXPAND\, PROMOTE AND PERPETUATE THE PRACTICE OF FIELD ARCHERY AND ANY OTHER ARCHERY GAMES AND TO ENCOURAGE THE USE OF THE BOW IN THE HUNTING OF ALL LEGAL GAME BIRDS AND ANIMALS\, AND TO PROTECT\, IMPROVE AND INCREASE THE SPORT OF HUNTING WITH BOW AND ARROW
X-ALT-DESC;FMTTYPE=text/html:SOUTH DAKOTA ARCHERS ASSOCIATION WAS FOUNDED IN 1954 TO UNITE ARCHERY ASSOCIATIONS INTO ONE ORGANIZED UNIT THAT WOULD WORK TOGETHER TO PROVIDE FOR THE DEVELOPMENT OF THE SPORT OF ARCHERY .&nbsp\;<br />\nSDAA WAS FORMED TO FOSTER\, EXPAND\, PROMOTE AND PERPETUATE THE PRACTICE OF FIELD ARCHERY AND ANY OTHER ARCHERY GAMES AND TO ENCOURAGE THE USE OF THE BOW IN THE HUNTING OF ALL LEGAL GAME BIRDS AND ANIMALS\, AND TO PROTECT\, IMPROVE AND INCREASE THE SPORT OF HUNTING WITH BOW AND ARROW
LOCATION:
UID:e.1624.24898
SEQUENCE:3
DTSTAMP:20260424T110808Z
URL:https://business.mitchellchamber.com/events/details/2019-sd-state-3-d-archery-shoot-24898
END:VEVENT

END:VCALENDAR
