BEGIN:VCALENDAR
VERSION:2.0
PRODID:-//ChamberMaster//Event Calendar 2.0//EN
METHOD:PUBLISH
X-PUBLISHED-TTL:P3D
REFRESH-INTERVAL:P3D
CALSCALE:GREGORIAN
BEGIN:VEVENT
DTSTART:20180718T003000Z
DTEND:20180718T030000Z
X-MICROSOFT-CDO-ALLDAYEVENT:FALSE
SUMMARY:2018 - 48th Corn Palace Stampede Rodeo WPRA Barrel Racing
DESCRIPTION:WPRA Barrel Racing   Rodeo Grounds   Sponsors:  WPRA\, Blazin Barrels & UBRA sanctioned - PeeWee's 5:00pm Free Admission
X-ALT-DESC;FMTTYPE=text/html:WPRA Barrel Racing &ndash\; Rodeo Grounds &ndash\; Sponsors:&nbsp\; WPRA\, Blazin Barrels &amp\; UBRA sanctioned - PeeWee&#39\;s 5:00pm Free Admission
LOCATION:Mitchell Rodeo Grounds - Horseman's Sports Arena - 4013 North Main - North Hwy 37 - Mitchell\, SD
UID:e.1624.17218
SEQUENCE:3
DTSTAMP:20260425T110943Z
URL:https://business.mitchellchamber.com/events/details/2018-48th-corn-palace-stampede-rodeo-wpra-barrel-racing-17218
END:VEVENT

END:VCALENDAR
