BEGIN:VCALENDAR
VERSION:2.0
PRODID:-//ChamberMaster//Event Calendar 2.0//EN
METHOD:PUBLISH
X-PUBLISHED-TTL:P3D
REFRESH-INTERVAL:P3D
CALSCALE:GREGORIAN
BEGIN:VEVENT
DTSTART:20180717T220000Z
DTEND:20180718T003000Z
X-MICROSOFT-CDO-ALLDAYEVENT:FALSE
SUMMARY:2018 - 48th Corn Palace Stampede Rodeo Community Kickoff
DESCRIPTION:Community Kickoff   Rodeo Grounds   Sponsors: KMIT & Corn Palace Stampede Rodeo Committee
X-ALT-DESC;FMTTYPE=text/html:Community Kickoff &ndash\; Rodeo Grounds &ndash\;&nbsp\;Sponsors: KMIT &amp\; Corn Palace Stampede Rodeo Committee
LOCATION:Mitchell Rodeo Grounds - Horseman's Sports Arena - 4013 North Main - North Hwy 37 - Mitchell\, SD
UID:e.1624.17217
SEQUENCE:3
DTSTAMP:20260425T110814Z
URL:https://business.mitchellchamber.com/events/details/2018-48th-corn-palace-stampede-rodeo-community-kickoff-17217
END:VEVENT

END:VCALENDAR
