BEGIN:VCALENDAR
VERSION:2.0
PRODID:-//ChamberMaster//Event Calendar 2.0//EN
METHOD:PUBLISH
X-PUBLISHED-TTL:P3D
REFRESH-INTERVAL:P3D
CALSCALE:GREGORIAN
BEGIN:VEVENT
DTSTART:20171123T150000Z
DTEND:20171123T170000Z
X-MICROSOFT-CDO-ALLDAYEVENT:FALSE
SUMMARY:2017 Turkey Trot 5K Run/Walk
DESCRIPTION:The Mitchell Baseball team is hosting their Annual Turkey Trot 5K Run/Walk.  Online registration will be open until November 21st.  Register by November 7th to be guaranteed a long- sleeve shirt.  Participants can register the day of the race from 8:00-8:30 am but will not get a shirt. \n\n\n\nAwards to the top male and female overall winners as well as 1st\, 2nd and 3rd will be given medals in each age division. Special awards such as best dressed and door prizes will be given.\n\n\n\nRegister online at All Sport Central\n\nhttp://www.allsportcentral.com/EventInfo.cfm?EventID=64901\n\n\n\nAll proceeds will go to the Mitchell Baseball Association.
X-ALT-DESC;FMTTYPE=text/html:The Mitchell Baseball team is hosting their Annual Turkey Trot 5K Run/Walk.&nbsp\; Online registration will be open until November 21st.&nbsp\; Register by November 7th to be guaranteed a long- sleeve shirt.&nbsp\; Participants can register the day of the race from 8:00-8:30 am but will not get a shirt.&nbsp\;<br />\n<br />\nAwards to the top male and female overall winners as well as 1st\, 2nd and 3rd will be given medals in each age division. Special awards such as best dressed and door prizes will be given.<br />\n<br />\nRegister online at All Sport Central<br />\nhttp://www.allsportcentral.com/EventInfo.cfm?EventID=64901<br />\n<br />\nAll proceeds will go to the Mitchell Baseball Association.<br />\n&nbsp\;
LOCATION:John Paul II School 1510 West Elm\, Mitchell\, SD
UID:e.1624.9134
SEQUENCE:3
DTSTAMP:20260425T235032Z
URL:https://business.mitchellchamber.com/events/details/2017-turkey-trot-5k-run-walk-9134
END:VEVENT

END:VCALENDAR
