BEGIN:VCALENDAR
VERSION:2.0
PRODID:-//ChamberMaster//Event Calendar 2.0//EN
METHOD:PUBLISH
X-PUBLISHED-TTL:P3D
REFRESH-INTERVAL:P3D
CALSCALE:GREGORIAN
BEGIN:VEVENT
DTSTART:20230707T220000Z
DTEND:20230708T020000Z
X-MICROSOFT-CDO-ALLDAYEVENT:FALSE
SUMMARY:1ST Friday's on Main
DESCRIPTION:We love our town and our community! 1st Friday's on Main is a FREE event and welcomes the people far and near to Mitchell to attend. Live Music\, Food Trucks\, Venders\, Beer Garden\, Inflatables\, Car Shows\, Games and more family fun! We can wait to you downtown in Mitchell\, SD!
X-ALT-DESC;FMTTYPE=text/html:<span style="font-size:14px\;"><span style="color:#800000\;"><strong><span style="font-family:comic sans ms\;">We love our town and our community! 1st Friday&#39\;s on Main is a FREE event and welcomes the people far and near to Mitchell to attend. Live Music\, Food Trucks\, Venders\, Beer Garden\, Inflatables\, Car Shows\, Games and more family fun! We can wait to you downtown in Mitchell\, SD!</span></strong></span></span>
LOCATION:6th & Main Street
UID:e.1624.33193
SEQUENCE:3
DTSTAMP:20260421T052919Z
URL:https://business.mitchellchamber.com/events/details/1st-friday-s-on-main-07-07-2023-33193
END:VEVENT

END:VCALENDAR
