BEGIN:VCALENDAR
VERSION:2.0
PRODID:-//ChamberMaster//Event Calendar 2.0//EN
METHOD:PUBLISH
X-PUBLISHED-TTL:P3D
REFRESH-INTERVAL:P3D
CALSCALE:GREGORIAN
BEGIN:VEVENT
DTSTART:20180727T173000Z
DTEND:20180727T213000Z
X-MICROSOFT-CDO-ALLDAYEVENT:FALSE
SUMMARY:1st Annual Par 3 Golf Tournament
DESCRIPTION:Please join us for our 1st Annual Par 3 Golf Tournament. This 2 person scramble will take place at Wild Oak Golf Course. There will be a new course map\, mulligans\, hole-in-one insurance and much more fun! We will be paying out flight prizes and pin prizes so register your team today! Please email Amy at mitchellbflf.fundraising@gmail.com or call the office at 292-4444.
X-ALT-DESC;FMTTYPE=text/html:Please join us for our 1st Annual Par 3 Golf Tournament. This 2 person scramble will take place at Wild Oak Golf Course. There will be a new course map\, mulligans\, hole-in-one insurance and much more fun! We will be paying out flight prizes and pin prizes so register your team today! Please email Amy at mitchellbflf.fundraising@gmail.com or call the office at 292-4444.
LOCATION:Wild Oak Golf Course
UID:e.1624.16968
SEQUENCE:3
DTSTAMP:20260425T124837Z
URL:https://business.mitchellchamber.com/events/details/1st-annual-par-3-golf-tournament-16968
END:VEVENT

END:VCALENDAR
