BEGIN:VCALENDAR
VERSION:2.0
PRODID:-//ChamberMaster//Event Calendar 2.0//EN
METHOD:PUBLISH
X-PUBLISHED-TTL:P3D
REFRESH-INTERVAL:P3D
CALSCALE:GREGORIAN
BEGIN:VEVENT
DTSTART:20250201T150000Z
DTEND:20250201T220000Z
X-MICROSOFT-CDO-ALLDAYEVENT:FALSE
SUMMARY:14th Annual Glass Slipper
DESCRIPTION:Hello! Thank you for your message. The 14th annual Glass Slipper give away FREE new and like-new prom dresses Sat.\, Feb. 1\, 2025 from 9am-4pm at RiverTree Church (601 N. Sanborn\, across from Taco John's). There is no application process -- anyone is welcome to shop for a single gown to be worn for any high school's prom. Donated gowns (originally purchased in the last five years)\, shoes and accessories are accepted year-round\, Tuesday-Friday\, 9am-4pm\, at the church. Watch our Facebook page for additional details regarding shopping and volunteering: facebook.com/sdtheglassslipper
X-ALT-DESC;FMTTYPE=text/html:Hello! Thank you for your message. The 14th annual Glass Slipper give away FREE new and like-new prom dresses Sat.\, Feb. 1\, 2025 from 9am-4pm at RiverTree Church (601 N. Sanborn\, across from Taco John&#39\;s). There is no application process -- anyone is welcome to shop for a single gown to be worn for any high school&#39\;s prom. Donated gowns (originally purchased in the last five years)\, shoes and accessories are accepted year-round\, Tuesday-Friday\, 9am-4pm\, at the church. Watch our Facebook page for additional details regarding shopping and volunteering: facebook.com/sdtheglassslipper
LOCATION:RiberTree Church 601 N. Sanborn Mitchell\, SD
UID:e.1624.38309
SEQUENCE:3
DTSTAMP:20260421T113606Z
URL:https://business.mitchellchamber.com/events/details/14th-annual-glass-slipper-38309
END:VEVENT

END:VCALENDAR
