BEGIN:VCALENDAR
VERSION:2.0
PRODID:-//ChamberMaster//Event Calendar 2.0//EN
METHOD:PUBLISH
X-PUBLISHED-TTL:P3D
REFRESH-INTERVAL:P3D
CALSCALE:GREGORIAN
BEGIN:VEVENT
DTSTART;VALUE=DATE:20240412
DTEND;VALUE=DATE:20240413
TRANSP:TRANSPARENT
X-MICROSOFT-CDO-ALLDAYEVENT:TRUE
SUMMARY:13th Annual Lucky Devils Adult Hockey Tournament
DESCRIPTION:Three Divisions \n\n	6 Team - A\n	6 Team - C\n	6 Team - 35+\n\n3 Games Guaranteed \n\nFriday night bar events and Saturday night social
X-ALT-DESC;FMTTYPE=text/html:Three Divisions&nbsp\;\n<ul>\n	<li>6 Team - A</li>\n	<li>6 Team - C</li>\n	<li>6 Team - 35+</li>\n</ul>\n3 Games Guaranteed&nbsp\;<br />\nFriday night bar events and Saturday night social&nbsp\;
LOCATION:Mitchell Activities Center 1001 N. Minnesota St Mitchell\, SD 57301
UID:e.1624.36122
SEQUENCE:3
DTSTAMP:20260420T094832Z
URL:https://business.mitchellchamber.com/events/details/13th-annual-lucky-devils-adult-hockey-tournament-36122
END:VEVENT

END:VCALENDAR
