BEGIN:VCALENDAR
VERSION:2.0
PRODID:-//ChamberMaster//Event Calendar 2.0//EN
METHOD:PUBLISH
X-PUBLISHED-TTL:P3D
REFRESH-INTERVAL:P3D
CALSCALE:GREGORIAN
BEGIN:VEVENT
DTSTART;VALUE=DATE:20220303
DTEND;VALUE=DATE:20220307
TRANSP:TRANSPARENT
X-MICROSOFT-CDO-ALLDAYEVENT:TRUE
SUMMARY:13 & Over Champs
DESCRIPTION:Prelim / Finals\n\n\n\nAll 13 & Over swimmers with South Dakota Qualifying Times.
X-ALT-DESC;FMTTYPE=text/html:Prelim / Finals<br />\n<br />\nAll 13 &amp\; Over swimmers with South Dakota Qualifying Times.
LOCATION:Mitchell Recreation Center 1300 N. Main St. Mitchell\, South Dakota
UID:e.1624.32153
SEQUENCE:3
DTSTAMP:20260422T001056Z
URL:https://business.mitchellchamber.com/events/details/13-over-champs-32153
END:VEVENT

END:VCALENDAR
