BEGIN:VCALENDAR
VERSION:2.0
PRODID:-//ChamberMaster//Event Calendar 2.0//EN
METHOD:PUBLISH
X-PUBLISHED-TTL:P3D
REFRESH-INTERVAL:P3D
CALSCALE:GREGORIAN
BEGIN:VEVENT
DTSTART:20210212T170000Z
DTEND:20210213T040000Z
X-MICROSOFT-CDO-ALLDAYEVENT:FALSE
SUMMARY:12th Annual DWU/Culver's Girls' Basketball Classic
DESCRIPTION:This year's matchups will be in two sessions with four games being played in the opening session and three games to be played in the second sessions. Other information to be noted include:\n\n - Face coverings will be required for the duration of the event.\n\n- Limited to 1\,000 tickets for each session (presale tickets will be online at www.dwuathletics.com/ticketing and available at the door until capacity limits are reached)\n\n- Presale ticketing will go live at 9 a.m. on Saturday\, Jan. 30 at www.dwuathletics.com/ticketing\n\n- Corn Palace will be cleared between sessions\n\n- Tickets will be $8 for adults and $4 for K-12 students (ticket prices are per session)\n\n- All games will be streamed online at https://portal.stretchinternet.com/dwu/ or available on your local Mitchell Telecom channel\n\n The schedule is as follows:\n\nSESSION 1\n\n11 a.m. - Lyman vs. Howard\n\n12:30 p.m. - Jones County vs. Menno\n\n2 p.m. - Burke vs. Bridgewater-Emery\n\n3:30 p.m. - Herreid-Selby vs. #1B Corsica-Stickney\n\nSESSION 2 *admission for SESSION 2 will start at 5:00pm*\n\n5:30 p.m. - #4A Sioux Falls Christian vs. #1A St. Thomas More\n\n7 p.m. - Kimball White Lake vs. #4B Hanson\n\n8:30 p.m.   (RV)B Viborg-Hurley vs. #3B White River
X-ALT-DESC;FMTTYPE=text/html:<p style="background-attachment: scroll\; background-clip: border-box\; background-color: transparent\; background-image: none\; background-origin: padding-box\; background-position-x: 0%\; background-position-y: 0%\; background-repeat: repeat\; background-size: auto\; color: rgb(68\, 68\, 68)\; font-family: &amp\;quot\;open_sansregular&amp\;quot\;\,arial\; font-size: 100%\; font-style: normal\; font-variant: normal\; font-weight: 400\; letter-spacing: normal\; margin-bottom: 15px\; margin-left: 0px\; margin-right: 0px\; margin-top: 0px\; orphans: 2\; outline-color: invert\; outline-style: none\; outline-width: 0px\; padding-bottom: 0px\; padding-left: 0px\; padding-right: 0px\; padding-top: 0px\; text-align: left\; text-decoration: none\; text-indent: 0px\; text-transform: none\; vertical-align: baseline\; -webkit-text-stroke-width: 0px\; white-space: normal\; word-spacing: 0px\;">This year&#39\;s matchups will be in two sessions with four games being played in the opening session and three games to be played in the second sessions. Other information to be noted include:</p>\n\n<p style="background-attachment: scroll\; background-clip: border-box\; background-color: transparent\; background-image: none\; background-origin: padding-box\; background-position-x: 0%\; background-position-y: 0%\; background-repeat: repeat\; background-size: auto\; color: rgb(68\, 68\, 68)\; font-family: &amp\;quot\;open_sansregular&amp\;quot\;\,arial\; font-size: 100%\; font-style: normal\; font-variant: normal\; font-weight: 400\; letter-spacing: normal\; margin-bottom: 15px\; margin-left: 0px\; margin-right: 0px\; margin-top: 0px\; orphans: 2\; outline-color: invert\; outline-style: none\; outline-width: 0px\; padding-bottom: 0px\; padding-left: 0px\; padding-right: 0px\; padding-top: 0px\; text-align: left\; text-decoration: none\; text-indent: 0px\; text-transform: none\; vertical-align: baseline\; -webkit-text-stroke-width: 0px\; white-space: normal\; word-spacing: 0px\;">&nbsp\;- Face coverings will be required for the duration of the event.</p>\n\n<p style="background-attachment: scroll\; background-clip: border-box\; background-color: transparent\; background-image: none\; background-origin: padding-box\; background-position-x: 0%\; background-position-y: 0%\; background-repeat: repeat\; background-size: auto\; color: rgb(68\, 68\, 68)\; font-family: &amp\;quot\;open_sansregular&amp\;quot\;\,arial\; font-size: 100%\; font-style: normal\; font-variant: normal\; font-weight: 400\; letter-spacing: normal\; margin-bottom: 15px\; margin-left: 0px\; margin-right: 0px\; margin-top: 0px\; orphans: 2\; outline-color: invert\; outline-style: none\; outline-width: 0px\; padding-bottom: 0px\; padding-left: 0px\; padding-right: 0px\; padding-top: 0px\; text-align: left\; text-decoration: none\; text-indent: 0px\; text-transform: none\; vertical-align: baseline\; -webkit-text-stroke-width: 0px\; white-space: normal\; word-spacing: 0px\;">- Limited to 1\,000 tickets for each session (presale tickets will be online at <a href="http://www.dwuathletics.com/ticketing" rel="noopener" style="background-attachment: scroll\; background-clip: border-box\; background-color: transparent\; background-image: none\; background-origin: padding-box\; background-position-x: 0%\; background-position-y: 0%\; background-repeat: repeat\; background-size: auto\; color: rgb(0\, 47\, 81)\; font-size: 100%\; margin-bottom: 0px\; margin-left: 0px\; margin-right: 0px\; margin-top: 0px\; padding-bottom: 0px\; padding-left: 0px\; padding-right: 0px\; padding-top: 0px\; text-decoration: none\; vertical-align: baseline\; -webkit-tap-highlight-color: rgba(201\, 224\, 253\, 0.8)\;" target="_blank">www.dwuathletics.com/ticketing</a> and available at the door until capacity limits are reached)</p>\n\n<p style="background-attachment: scroll\; background-clip: border-box\; background-color: transparent\; background-image: none\; background-origin: padding-box\; background-position-x: 0%\; background-position-y: 0%\; background-repeat: repeat\; background-size: auto\; color: rgb(68\, 68\, 68)\; font-family: &amp\;quot\;open_sansregular&amp\;quot\;\,arial\; font-size: 100%\; font-style: normal\; font-variant: normal\; font-weight: 400\; letter-spacing: normal\; margin-bottom: 15px\; margin-left: 0px\; margin-right: 0px\; margin-top: 0px\; orphans: 2\; outline-color: invert\; outline-style: none\; outline-width: 0px\; padding-bottom: 0px\; padding-left: 0px\; padding-right: 0px\; padding-top: 0px\; text-align: left\; text-decoration: none\; text-indent: 0px\; text-transform: none\; vertical-align: baseline\; -webkit-text-stroke-width: 0px\; white-space: normal\; word-spacing: 0px\;">- Presale ticketing will go live at 9 a.m. on Saturday\, Jan. 30 at <a href="http://www.dwuathletics.com/ticketing" rel="noopener" style="background-attachment: scroll\; background-clip: border-box\; background-color: transparent\; background-image: none\; background-origin: padding-box\; background-position-x: 0%\; background-position-y: 0%\; background-repeat: repeat\; background-size: auto\; color: rgb(0\, 47\, 81)\; font-size: 100%\; margin-bottom: 0px\; margin-left: 0px\; margin-right: 0px\; margin-top: 0px\; padding-bottom: 0px\; padding-left: 0px\; padding-right: 0px\; padding-top: 0px\; text-decoration: none\; vertical-align: baseline\; -webkit-tap-highlight-color: rgba(201\, 224\, 253\, 0.8)\;" target="_blank">www.dwuathletics.com/ticketing</a></p>\n\n<p style="background-attachment: scroll\; background-clip: border-box\; background-color: transparent\; background-image: none\; background-origin: padding-box\; background-position-x: 0%\; background-position-y: 0%\; background-repeat: repeat\; background-size: auto\; color: rgb(68\, 68\, 68)\; font-family: &amp\;quot\;open_sansregular&amp\;quot\;\,arial\; font-size: 100%\; font-style: normal\; font-variant: normal\; font-weight: 400\; letter-spacing: normal\; margin-bottom: 15px\; margin-left: 0px\; margin-right: 0px\; margin-top: 0px\; orphans: 2\; outline-color: invert\; outline-style: none\; outline-width: 0px\; padding-bottom: 0px\; padding-left: 0px\; padding-right: 0px\; padding-top: 0px\; text-align: left\; text-decoration: none\; text-indent: 0px\; text-transform: none\; vertical-align: baseline\; -webkit-text-stroke-width: 0px\; white-space: normal\; word-spacing: 0px\;">- Corn Palace will be cleared between sessions</p>\n\n<p style="background-attachment: scroll\; background-clip: border-box\; background-color: transparent\; background-image: none\; background-origin: padding-box\; background-position-x: 0%\; background-position-y: 0%\; background-repeat: repeat\; background-size: auto\; color: rgb(68\, 68\, 68)\; font-family: &amp\;quot\;open_sansregular&amp\;quot\;\,arial\; font-size: 100%\; font-style: normal\; font-variant: normal\; font-weight: 400\; letter-spacing: normal\; margin-bottom: 15px\; margin-left: 0px\; margin-right: 0px\; margin-top: 0px\; orphans: 2\; outline-color: invert\; outline-style: none\; outline-width: 0px\; padding-bottom: 0px\; padding-left: 0px\; padding-right: 0px\; padding-top: 0px\; text-align: left\; text-decoration: none\; text-indent: 0px\; text-transform: none\; vertical-align: baseline\; -webkit-text-stroke-width: 0px\; white-space: normal\; word-spacing: 0px\;">- Tickets will be $8 for adults and $4 for K-12 students (ticket prices are per session)</p>\n\n<p style="background-attachment: scroll\; background-clip: border-box\; background-color: transparent\; background-image: none\; background-origin: padding-box\; background-position-x: 0%\; background-position-y: 0%\; background-repeat: repeat\; background-size: auto\; color: rgb(68\, 68\, 68)\; font-family: &amp\;quot\;open_sansregular&amp\;quot\;\,arial\; font-size: 100%\; font-style: normal\; font-variant: normal\; font-weight: 400\; letter-spacing: normal\; margin-bottom: 15px\; margin-left: 0px\; margin-right: 0px\; margin-top: 0px\; orphans: 2\; outline-color: invert\; outline-style: none\; outline-width: 0px\; padding-bottom: 0px\; padding-left: 0px\; padding-right: 0px\; padding-top: 0px\; text-align: left\; text-decoration: none\; text-indent: 0px\; text-transform: none\; vertical-align: baseline\; -webkit-text-stroke-width: 0px\; white-space: normal\; word-spacing: 0px\;">- All games will be streamed online at <a href="https://portal.stretchinternet.com/dwu/" rel="noopener" style="background-attachment: scroll\; background-clip: border-box\; background-color: transparent\; background-image: none\; background-origin: padding-box\; background-position-x: 0%\; background-position-y: 0%\; background-repeat: repeat\; background-size: auto\; color: rgb(0\, 47\, 81)\; font-size: 100%\; margin-bottom: 0px\; margin-left: 0px\; margin-right: 0px\; margin-top: 0px\; padding-bottom: 0px\; padding-left: 0px\; padding-right: 0px\; padding-top: 0px\; text-decoration: none\; vertical-align: baseline\; -webkit-tap-highlight-color: rgba(201\, 224\, 253\, 0.8)\;" target="_blank">https://portal.stretchinternet.com/dwu/</a> or available on your local Mitchell Telecom channel</p>\n\n<p style="background-attachment: scroll\; background-clip: border-box\; background-color: transparent\; background-image: none\; background-origin: padding-box\; background-position-x: 0%\; background-position-y: 0%\; background-repeat: repeat\; background-size: auto\; color: rgb(68\, 68\, 68)\; font-family: &amp\;quot\;open_sansregular&amp\;quot\;\,arial\; font-size: 100%\; font-style: normal\; font-variant: normal\; font-weight: 400\; letter-spacing: normal\; margin-bottom: 15px\; margin-left: 0px\; margin-right: 0px\; margin-top: 0px\; orphans: 2\; outline-color: invert\; outline-style: none\; outline-width: 0px\; padding-bottom: 0px\; padding-left: 0px\; padding-right: 0px\; padding-top: 0px\; text-align: left\; text-decoration: none\; text-indent: 0px\; text-transform: none\; vertical-align: baseline\; -webkit-text-stroke-width: 0px\; white-space: normal\; word-spacing: 0px\;">&nbsp\;The schedule is as follows:</p>\n\n<p style="background-attachment: scroll\; background-clip: border-box\; background-color: transparent\; background-image: none\; background-origin: padding-box\; background-position-x: 0%\; background-position-y: 0%\; background-repeat: repeat\; background-size: auto\; color: rgb(68\, 68\, 68)\; font-family: &amp\;quot\;open_sansregular&amp\;quot\;\,arial\; font-size: 100%\; font-style: normal\; font-variant: normal\; font-weight: 400\; letter-spacing: normal\; margin-bottom: 15px\; margin-left: 0px\; margin-right: 0px\; margin-top: 0px\; orphans: 2\; outline-color: invert\; outline-style: none\; outline-width: 0px\; padding-bottom: 0px\; padding-left: 0px\; padding-right: 0px\; padding-top: 0px\; text-align: left\; text-decoration: none\; text-indent: 0px\; text-transform: none\; vertical-align: baseline\; -webkit-text-stroke-width: 0px\; white-space: normal\; word-spacing: 0px\;"><strong style="background-attachment: scroll\; background-clip: border-box\; background-color: transparent\; background-image: none\; background-origin: padding-box\; background-position-x: 0%\; background-position-y: 0%\; background-repeat: repeat\; background-size: auto\; font-family: &amp\;quot\;open_sansbold&amp\;quot\;\,arial\; font-size: 100%\; font-weight: normal\; margin-bottom: 0px\; margin-left: 0px\; margin-right: 0px\; margin-top: 0px\; outline-color: invert\; outline-style: none\; outline-width: 0px\; padding-bottom: 0px\; padding-left: 0px\; padding-right: 0px\; padding-top: 0px\; vertical-align: baseline\;"><u>SESSION 1</u></strong></p>\n\n<p style="background-attachment: scroll\; background-clip: border-box\; background-color: transparent\; background-image: none\; background-origin: padding-box\; background-position-x: 0%\; background-position-y: 0%\; background-repeat: repeat\; background-size: auto\; color: rgb(68\, 68\, 68)\; font-family: &amp\;quot\;open_sansregular&amp\;quot\;\,arial\; font-size: 100%\; font-style: normal\; font-variant: normal\; font-weight: 400\; letter-spacing: normal\; margin-bottom: 15px\; margin-left: 0px\; margin-right: 0px\; margin-top: 0px\; orphans: 2\; outline-color: invert\; outline-style: none\; outline-width: 0px\; padding-bottom: 0px\; padding-left: 0px\; padding-right: 0px\; padding-top: 0px\; text-align: left\; text-decoration: none\; text-indent: 0px\; text-transform: none\; vertical-align: baseline\; -webkit-text-stroke-width: 0px\; white-space: normal\; word-spacing: 0px\;">11 a.m. - Lyman vs. Howard</p>\n\n<p style="background-attachment: scroll\; background-clip: border-box\; background-color: transparent\; background-image: none\; background-origin: padding-box\; background-position-x: 0%\; background-position-y: 0%\; background-repeat: repeat\; background-size: auto\; color: rgb(68\, 68\, 68)\; font-family: &amp\;quot\;open_sansregular&amp\;quot\;\,arial\; font-size: 100%\; font-style: normal\; font-variant: normal\; font-weight: 400\; letter-spacing: normal\; margin-bottom: 15px\; margin-left: 0px\; margin-right: 0px\; margin-top: 0px\; orphans: 2\; outline-color: invert\; outline-style: none\; outline-width: 0px\; padding-bottom: 0px\; padding-left: 0px\; padding-right: 0px\; padding-top: 0px\; text-align: left\; text-decoration: none\; text-indent: 0px\; text-transform: none\; vertical-align: baseline\; -webkit-text-stroke-width: 0px\; white-space: normal\; word-spacing: 0px\;">12:30 p.m. - Jones County vs. Menno</p>\n\n<p style="background-attachment: scroll\; background-clip: border-box\; background-color: transparent\; background-image: none\; background-origin: padding-box\; background-position-x: 0%\; background-position-y: 0%\; background-repeat: repeat\; background-size: auto\; color: rgb(68\, 68\, 68)\; font-family: &amp\;quot\;open_sansregular&amp\;quot\;\,arial\; font-size: 100%\; font-style: normal\; font-variant: normal\; font-weight: 400\; letter-spacing: normal\; margin-bottom: 15px\; margin-left: 0px\; margin-right: 0px\; margin-top: 0px\; orphans: 2\; outline-color: invert\; outline-style: none\; outline-width: 0px\; padding-bottom: 0px\; padding-left: 0px\; padding-right: 0px\; padding-top: 0px\; text-align: left\; text-decoration: none\; text-indent: 0px\; text-transform: none\; vertical-align: baseline\; -webkit-text-stroke-width: 0px\; white-space: normal\; word-spacing: 0px\;">2 p.m. - Burke vs. Bridgewater-Emery</p>\n\n<p style="background-attachment: scroll\; background-clip: border-box\; background-color: transparent\; background-image: none\; background-origin: padding-box\; background-position-x: 0%\; background-position-y: 0%\; background-repeat: repeat\; background-size: auto\; color: rgb(68\, 68\, 68)\; font-family: &amp\;quot\;open_sansregular&amp\;quot\;\,arial\; font-size: 100%\; font-style: normal\; font-variant: normal\; font-weight: 400\; letter-spacing: normal\; margin-bottom: 15px\; margin-left: 0px\; margin-right: 0px\; margin-top: 0px\; orphans: 2\; outline-color: invert\; outline-style: none\; outline-width: 0px\; padding-bottom: 0px\; padding-left: 0px\; padding-right: 0px\; padding-top: 0px\; text-align: left\; text-decoration: none\; text-indent: 0px\; text-transform: none\; vertical-align: baseline\; -webkit-text-stroke-width: 0px\; white-space: normal\; word-spacing: 0px\;">3:30 p.m. - Herreid-Selby vs. #1B Corsica-Stickney</p>\n\n<p style="background-attachment: scroll\; background-clip: border-box\; background-color: transparent\; background-image: none\; background-origin: padding-box\; background-position-x: 0%\; background-position-y: 0%\; background-repeat: repeat\; background-size: auto\; color: rgb(68\, 68\, 68)\; font-family: &amp\;quot\;open_sansregular&amp\;quot\;\,arial\; font-size: 100%\; font-style: normal\; font-variant: normal\; font-weight: 400\; letter-spacing: normal\; margin-bottom: 15px\; margin-left: 0px\; margin-right: 0px\; margin-top: 0px\; orphans: 2\; outline-color: invert\; outline-style: none\; outline-width: 0px\; padding-bottom: 0px\; padding-left: 0px\; padding-right: 0px\; padding-top: 0px\; text-align: left\; text-decoration: none\; text-indent: 0px\; text-transform: none\; vertical-align: baseline\; -webkit-text-stroke-width: 0px\; white-space: normal\; word-spacing: 0px\;"><strong style="background-attachment: scroll\; background-clip: border-box\; background-color: transparent\; background-image: none\; background-origin: padding-box\; background-position-x: 0%\; background-position-y: 0%\; background-repeat: repeat\; background-size: auto\; font-family: &amp\;quot\;open_sansbold&amp\;quot\;\,arial\; font-size: 100%\; font-weight: normal\; margin-bottom: 0px\; margin-left: 0px\; margin-right: 0px\; margin-top: 0px\; outline-color: invert\; outline-style: none\; outline-width: 0px\; padding-bottom: 0px\; padding-left: 0px\; padding-right: 0px\; padding-top: 0px\; vertical-align: baseline\;"><u>SESSION 2</u></strong> *admission for SESSION 2 will start at 5:00pm*</p>\n\n<p style="background-attachment: scroll\; background-clip: border-box\; background-color: transparent\; background-image: none\; background-origin: padding-box\; background-position-x: 0%\; background-position-y: 0%\; background-repeat: repeat\; background-size: auto\; color: rgb(68\, 68\, 68)\; font-family: &amp\;quot\;open_sansregular&amp\;quot\;\,arial\; font-size: 100%\; font-style: normal\; font-variant: normal\; font-weight: 400\; letter-spacing: normal\; margin-bottom: 15px\; margin-left: 0px\; margin-right: 0px\; margin-top: 0px\; orphans: 2\; outline-color: invert\; outline-style: none\; outline-width: 0px\; padding-bottom: 0px\; padding-left: 0px\; padding-right: 0px\; padding-top: 0px\; text-align: left\; text-decoration: none\; text-indent: 0px\; text-transform: none\; vertical-align: baseline\; -webkit-text-stroke-width: 0px\; white-space: normal\; word-spacing: 0px\;">5:30 p.m. - #4A Sioux Falls Christian vs. #1A St. Thomas More</p>\n\n<p style="background-attachment: scroll\; background-clip: border-box\; background-color: transparent\; background-image: none\; background-origin: padding-box\; background-position-x: 0%\; background-position-y: 0%\; background-repeat: repeat\; background-size: auto\; color: rgb(68\, 68\, 68)\; font-family: &amp\;quot\;open_sansregular&amp\;quot\;\,arial\; font-size: 100%\; font-style: normal\; font-variant: normal\; font-weight: 400\; letter-spacing: normal\; margin-bottom: 15px\; margin-left: 0px\; margin-right: 0px\; margin-top: 0px\; orphans: 2\; outline-color: invert\; outline-style: none\; outline-width: 0px\; padding-bottom: 0px\; padding-left: 0px\; padding-right: 0px\; padding-top: 0px\; text-align: left\; text-decoration: none\; text-indent: 0px\; text-transform: none\; vertical-align: baseline\; -webkit-text-stroke-width: 0px\; white-space: normal\; word-spacing: 0px\;">7 p.m. - Kimball White Lake vs. #4B Hanson</p>\n\n<p style="background-attachment: scroll\; background-clip: border-box\; background-color: transparent\; background-image: none\; background-origin: padding-box\; background-position-x: 0%\; background-position-y: 0%\; background-repeat: repeat\; background-size: auto\; color: rgb(68\, 68\, 68)\; font-family: &amp\;quot\;open_sansregular&amp\;quot\;\,arial\; font-size: 100%\; font-style: normal\; font-variant: normal\; font-weight: 400\; letter-spacing: normal\; margin-bottom: 15px\; margin-left: 0px\; margin-right: 0px\; margin-top: 0px\; orphans: 2\; outline-color: invert\; outline-style: none\; outline-width: 0px\; padding-bottom: 0px\; padding-left: 0px\; padding-right: 0px\; padding-top: 0px\; text-align: left\; text-decoration: none\; text-indent: 0px\; text-transform: none\; vertical-align: baseline\; -webkit-text-stroke-width: 0px\; white-space: normal\; word-spacing: 0px\;">8:30 p.m. &ndash\; (RV)B Viborg-Hurley vs. #3B White River</p>\n
LOCATION:World's Only Corn Palace 604 N. Main St. Mitchell\, South Dakota
UID:e.1624.30420
SEQUENCE:3
DTSTAMP:20260423T081550Z
URL:https://business.mitchellchamber.com/events/details/12th-annual-dwu-culver-s-girls-basketball-classic-30420
END:VEVENT

END:VCALENDAR
